BEGIN:VCALENDAR
VERSION:2.0
PRODID:-//Plone.org//NONSGML plone.app.event//EN
X-WR-TIMEZONE:US/Central
BEGIN:VEVENT
SUMMARY:Winter Olympics Party for Tweens & Teens
DTSTART;TZID=US/Central:20180224T140000
DTEND;TZID=US/Central:20180224T153000
DTSTAMP:20260422T084503Z
UID:db2293a4b54448b4b6959abd9b415fdf@saas_stack_varnish:6080
CONTACT:618.498.9514
CREATED:20180205T200047Z
LAST-MODIFIED:20180205T200050Z
LOCATION:Jerseyville PL meeting room
URL:https://www.jerseyvillelibrary.org/news-events/lib-cal/winter-olympics
 -party-for-tweens-teens
END:VEVENT
BEGIN:VTIMEZONE
TZID:US/Central
X-LIC-LOCATION:US/Central
BEGIN:STANDARD
DTSTART:20171105T010000
TZNAME:CST
TZOFFSETFROM:-0500
TZOFFSETTO:-0600
END:STANDARD
END:VTIMEZONE
END:VCALENDAR
