BEGIN:VCALENDAR
VERSION:2.0
PRODID:-//Plone.org//NONSGML plone.app.event//EN
X-WR-TIMEZONE:US/Central
BEGIN:VEVENT
SUMMARY:Library Closed
DTSTART;TZID=US/Central:20220101T080000
DTEND;TZID=US/Central:20220102T160000
DTSTAMP:20260420T155800Z
UID:fff7e0bfb70741e6b72df1b84b0ca932@saas_stack_varnish:6080
CREATED:20211130T180602Z
LAST-MODIFIED:20211130T180607Z
URL:https://www.jerseyvillelibrary.org/news-events/library-closed-2
END:VEVENT
BEGIN:VTIMEZONE
TZID:US/Central
X-LIC-LOCATION:US/Central
BEGIN:STANDARD
DTSTART:20211107T010000
TZNAME:CST
TZOFFSETFROM:-0500
TZOFFSETTO:-0600
END:STANDARD
END:VTIMEZONE
END:VCALENDAR
