BEGIN:VCALENDAR
VERSION:2.0
PRODID:-//Plone.org//NONSGML plone.app.event//EN
X-WR-TIMEZONE:US/Central
BEGIN:VEVENT
SUMMARY:Library Closed - Father's Day
DTSTART;TZID=US/Central:20230618T083000
DTEND;TZID=US/Central:20230618T170000
DTSTAMP:20260420T103901Z
UID:c957044d64934a53bfa4d77b21755129@saas_stack_varnish:6080
CREATED:20230530T153227Z
LAST-MODIFIED:20230530T153231Z
URL:https://www.jerseyvillelibrary.org/news-events/library-closed-fathers-
 day
END:VEVENT
BEGIN:VTIMEZONE
TZID:US/Central
X-LIC-LOCATION:US/Central
BEGIN:DAYLIGHT
DTSTART:20230312T030000
TZNAME:CDT
TZOFFSETFROM:-0600
TZOFFSETTO:-0500
END:DAYLIGHT
END:VTIMEZONE
END:VCALENDAR
