BEGIN:VCALENDAR
VERSION:2.0
PRODID:-//Plone.org//NONSGML plone.app.event//EN
X-WR-TIMEZONE:US/Central
BEGIN:VEVENT
SUMMARY:Library Closed for Independence Day Weekend
DTSTART;TZID=US/Central:20220703T083000
DTEND;TZID=US/Central:20220704T200000
DTSTAMP:20260420T143658Z
UID:014c3b6bacab420c9e0713d3d086c870@saas_stack_varnish:6080
CREATED:20220628T192317Z
LAST-MODIFIED:20220628T192324Z
LOCATION:Jerseyville Public Library
URL:https://www.jerseyvillelibrary.org/news-events/library-closed-for-inde
 pendence-day-weekend
END:VEVENT
BEGIN:VTIMEZONE
TZID:US/Central
X-LIC-LOCATION:US/Central
BEGIN:DAYLIGHT
DTSTART:20220313T030000
TZNAME:CDT
TZOFFSETFROM:-0600
TZOFFSETTO:-0500
END:DAYLIGHT
END:VTIMEZONE
END:VCALENDAR
