BEGIN:VCALENDAR
VERSION:2.0
PRODID:-//Plone.org//NONSGML plone.app.event//EN
X-WR-TIMEZONE:US/Central
BEGIN:VEVENT
SUMMARY:Library Closed for Independence Day
DTSTART;VALUE=DATE:20240704
DTEND;VALUE=DATE:20240705
DTSTAMP:20260420T081703Z
UID:ed1a9c425e804f93a91e9ae91ee704e0@saas_stack_varnish:6080
CREATED:20240630T200931Z
LAST-MODIFIED:20240630T200939Z
URL:https://www.jerseyvillelibrary.org/news-events/library-closed-for-inde
 pendence-day
END:VEVENT
END:VCALENDAR
