BEGIN:VCALENDAR
VERSION:2.0
PRODID:-//Plone.org//NONSGML plone.app.event//EN
X-WR-TIMEZONE:US/Central
BEGIN:VEVENT
SUMMARY:Library Closed for President's Day
DTSTART;VALUE=DATE:20220220
DTEND;VALUE=DATE:20220221
DTSTAMP:20260420T160158Z
UID:2ddada67ee0d44099b3ca71a61fa1b89@saas_stack_varnish:6080
CREATED:20220131T204226Z
LAST-MODIFIED:20220131T204230Z
URL:https://www.jerseyvillelibrary.org/news-events/library-closed-for-pres
 idents-day-1
END:VEVENT
END:VCALENDAR
