BEGIN:VCALENDAR
VERSION:2.0
PRODID:-//Plone.org//NONSGML plone.app.event//EN
X-WR-TIMEZONE:US/Central
BEGIN:VEVENT
SUMMARY:Library Closed for President's Day
DTSTART;VALUE=DATE:20220221
DTEND;VALUE=DATE:20220222
DTSTAMP:20260420T160121Z
UID:8a400cd3ec4c47bfba03b96a41fbaba7@saas_stack_varnish:6080
CREATED:20220131T204104Z
LAST-MODIFIED:20220131T204133Z
URL:https://www.jerseyvillelibrary.org/news-events/library-closed-for-pres
 idents-day
END:VEVENT
END:VCALENDAR
