BEGIN:VCALENDAR
VERSION:2.0
PRODID:-//Plone.org//NONSGML plone.app.event//EN
X-WR-TIMEZONE:US/Central
BEGIN:VEVENT
SUMMARY:Library Closed - Memorial Day Weekend
DTSTART;TZID=US/Central:20230528T083000
DTEND;TZID=US/Central:20230529T200000
DTSTAMP:20260420T104024Z
UID:c4faf3d9bb09401fb3055b75bfae13e4@saas_stack_varnish:6080
CREATED:20230426T164424Z
LAST-MODIFIED:20230426T164429Z
URL:https://www.jerseyvillelibrary.org/news-events/library-closed-memorial
 -day-weekend
END:VEVENT
BEGIN:VTIMEZONE
TZID:US/Central
X-LIC-LOCATION:US/Central
BEGIN:DAYLIGHT
DTSTART:20230312T030000
TZNAME:CDT
TZOFFSETFROM:-0600
TZOFFSETTO:-0500
END:DAYLIGHT
END:VTIMEZONE
END:VCALENDAR
