BEGIN:VCALENDAR
VERSION:2.0
PRODID:-//Plone.org//NONSGML plone.app.event//EN
X-WR-TIMEZONE:US/Central
BEGIN:VEVENT
SUMMARY:LIBRARY CLOSED UNTIL 2:00 PM
DTSTART;TZID=US/Central:20221029T140000
DTEND;TZID=US/Central:20221029T150000
DTSTAMP:20260420T131810Z
UID:ba87dc08d3b948d7a9fc61a0b4f230cb@saas_stack_varnish:6080
CREATED:20220927T194309Z
LAST-MODIFIED:20220927T194314Z
LOCATION:Jerseyville Public Library
URL:https://www.jerseyvillelibrary.org/news-events/library-closed-until-2-
 00-pm
END:VEVENT
BEGIN:VTIMEZONE
TZID:US/Central
X-LIC-LOCATION:US/Central
BEGIN:DAYLIGHT
DTSTART:20220313T030000
TZNAME:CDT
TZOFFSETFROM:-0600
TZOFFSETTO:-0500
END:DAYLIGHT
END:VTIMEZONE
END:VCALENDAR
