BEGIN:VCALENDAR
VERSION:2.0
PRODID:-//Plone.org//NONSGML plone.app.event//EN
X-WR-TIMEZONE:US/Central
BEGIN:VEVENT
SUMMARY:Library Closed
DTSTART;TZID=US/Central:20211225T083000
DTEND;TZID=US/Central:20211225T200000
DTSTAMP:20260420T161057Z
UID:8fcad5f453e64694b2a19f4721be25bb@saas_stack_varnish:6080
CREATED:20211130T180258Z
LAST-MODIFIED:20211130T180303Z
URL:https://www.jerseyvillelibrary.org/news-events/library-closed
END:VEVENT
BEGIN:VTIMEZONE
TZID:US/Central
X-LIC-LOCATION:US/Central
BEGIN:STANDARD
DTSTART:20211107T010000
TZNAME:CST
TZOFFSETFROM:-0500
TZOFFSETTO:-0600
END:STANDARD
END:VTIMEZONE
END:VCALENDAR
