BEGIN:VCALENDAR
VERSION:2.0
PRODID:-//Plone.org//NONSGML plone.app.event//EN
X-WR-TIMEZONE:US/Central
BEGIN:VEVENT
SUMMARY:Library Closing at Noon
DTSTART;TZID=US/Central:20211124T120000
DTEND;TZID=US/Central:20211124T130000
DTSTAMP:20260420T172523Z
UID:c5715a3c0bc24c1f95c0120825001d4d@saas_stack_varnish:6080
CREATED:20211130T180159Z
LAST-MODIFIED:20211130T180204Z
LOCATION:Jerseyville Public Library
URL:https://www.jerseyvillelibrary.org/news-events/library-closing-at-noon
END:VEVENT
BEGIN:VTIMEZONE
TZID:US/Central
X-LIC-LOCATION:US/Central
BEGIN:STANDARD
DTSTART:20211107T010000
TZNAME:CST
TZOFFSETFROM:-0500
TZOFFSETTO:-0600
END:STANDARD
END:VTIMEZONE
END:VCALENDAR
