BEGIN:VCALENDAR
VERSION:2.0
PRODID:-//Plone.org//NONSGML plone.app.event//EN
X-WR-TIMEZONE:US/Central
BEGIN:VEVENT
SUMMARY:Library Closing Early
DTSTART;TZID=US/Central:20221224T120000
DTEND;TZID=US/Central:20221224T170000
DTSTAMP:20260420T133006Z
UID:3dc87d0d64d24ebf941dc4b91dd16819@saas_stack_varnish:6080
CREATED:20221126T005220Z
LAST-MODIFIED:20221126T005444Z
URL:https://www.jerseyvillelibrary.org/news-events/library-closing-early-1
END:VEVENT
BEGIN:VTIMEZONE
TZID:US/Central
X-LIC-LOCATION:US/Central
BEGIN:STANDARD
DTSTART:20221106T010000
TZNAME:CST
TZOFFSETFROM:-0500
TZOFFSETTO:-0600
END:STANDARD
END:VTIMEZONE
END:VCALENDAR
