BEGIN:VCALENDAR
VERSION:2.0
PRODID:-//Plone.org//NONSGML plone.app.event//EN
X-WR-TIMEZONE:US/Central
BEGIN:VEVENT
SUMMARY:Library Closing Early
DTSTART;TZID=US/Central:20211231T120000
DTEND;TZID=US/Central:20211231T130000
DTSTAMP:20260420T161021Z
UID:9598c8ce8ce448db9808f663790d97be@saas_stack_varnish:6080
CREATED:20211130T180447Z
LAST-MODIFIED:20211130T180452Z
URL:https://www.jerseyvillelibrary.org/news-events/library-closing-early
END:VEVENT
BEGIN:VTIMEZONE
TZID:US/Central
X-LIC-LOCATION:US/Central
BEGIN:STANDARD
DTSTART:20211107T010000
TZNAME:CST
TZOFFSETFROM:-0500
TZOFFSETTO:-0600
END:STANDARD
END:VTIMEZONE
END:VCALENDAR
