BEGIN:VCALENDAR
VERSION:2.0
PRODID:-//Plone.org//NONSGML plone.app.event//EN
X-WR-TIMEZONE:US/Central
BEGIN:VEVENT
SUMMARY:Library Closings for Thanksgiving
DTSTART;TZID=US/Central:20221124T083000
DTEND;TZID=US/Central:20221124T200000
DTSTAMP:20260420T131934Z
UID:01ab7df0c8964385929bc8565ea38124@saas_stack_varnish:6080
CREATED:20221031T200944Z
LAST-MODIFIED:20221031T201035Z
URL:https://www.jerseyvillelibrary.org/news-events/library-closings-for-th
 anksgiving
END:VEVENT
BEGIN:VTIMEZONE
TZID:US/Central
X-LIC-LOCATION:US/Central
BEGIN:STANDARD
DTSTART:20221106T010000
TZNAME:CST
TZOFFSETFROM:-0500
TZOFFSETTO:-0600
END:STANDARD
END:VTIMEZONE
END:VCALENDAR
