BEGIN:VCALENDAR
VERSION:2.0
PRODID:-//Plone.org//NONSGML plone.app.event//EN
X-WR-TIMEZONE:US/Central
BEGIN:VEVENT
SUMMARY:Library Lovers Bingo
DTSTART;TZID=US/Central:20220212T100000
DTEND;TZID=US/Central:20220212T110000
DTSTAMP:20260420T155942Z
UID:f81f5efc501d477e93ea5c39e07165e5@saas_stack_varnish:6080
CREATED:20220131T203311Z
DESCRIPTION:Bingo!
LAST-MODIFIED:20220131T203337Z
LOCATION:Jerseyville Public Library
URL:https://www.jerseyvillelibrary.org/news-events/library-lovers-bingo
END:VEVENT
BEGIN:VTIMEZONE
TZID:US/Central
X-LIC-LOCATION:US/Central
BEGIN:STANDARD
DTSTART:20211107T010000
TZNAME:CST
TZOFFSETFROM:-0500
TZOFFSETTO:-0600
END:STANDARD
END:VTIMEZONE
END:VCALENDAR
