BEGIN:VCALENDAR
VERSION:2.0
PRODID:-//Plone.org//NONSGML plone.app.event//EN
X-WR-TIMEZONE:US/Central
BEGIN:VEVENT
SUMMARY:Memorial Day Weekend - Library Closed
DTSTART;VALUE=DATE:20220529
DTEND;VALUE=DATE:20220531
DTSTAMP:20260420T144621Z
UID:aa80bd93602f46fc90fbf102447ce99f@saas_stack_varnish:6080
CREATED:20220429T155434Z
LAST-MODIFIED:20220429T155438Z
URL:https://www.jerseyvillelibrary.org/news-events/memorial-day-weekend-li
 brary-closed
END:VEVENT
END:VCALENDAR
