BEGIN:VCALENDAR
VERSION:2.0
PRODID:-//Plone.org//NONSGML plone.app.event//EN
X-WR-TIMEZONE:US/Central
BEGIN:VEVENT
SUMMARY:Mother Jones: March of the Mill Children
DTSTART;TZID=US/Central:20230626T183000
DTEND;TZID=US/Central:20230626T193000
DTSTAMP:20260420T110224Z
UID:a740b4154c04420d986044cfd03790b3@saas_stack_varnish:6080
CREATED:20230530T155243Z
LAST-MODIFIED:20230530T155250Z
LOCATION:Jerseyville Public Library
URL:https://www.jerseyvillelibrary.org/news-events/mother-jones-march-of-t
 he-mill-children
END:VEVENT
BEGIN:VTIMEZONE
TZID:US/Central
X-LIC-LOCATION:US/Central
BEGIN:DAYLIGHT
DTSTART:20230312T030000
TZNAME:CDT
TZOFFSETFROM:-0600
TZOFFSETTO:-0500
END:DAYLIGHT
END:VTIMEZONE
END:VCALENDAR
