BEGIN:VCALENDAR
VERSION:2.0
PRODID:-//Plone.org//NONSGML plone.app.event//EN
X-WR-TIMEZONE:US/Central
BEGIN:VEVENT
SUMMARY:Mother's Day - Library Closed
DTSTART;VALUE=DATE:20220508
DTEND;VALUE=DATE:20220509
DTSTAMP:20260420T144521Z
UID:160140b39e9641d1a3f469a96241bdbd@saas_stack_varnish:6080
CREATED:20220429T155345Z
LAST-MODIFIED:20220429T155350Z
URL:https://www.jerseyvillelibrary.org/news-events/mothers-day-library-clo
 sed
END:VEVENT
END:VCALENDAR
