BEGIN:VCALENDAR
VERSION:2.0
PRODID:-//Plone.org//NONSGML plone.app.event//EN
X-WR-TIMEZONE:US/Central
BEGIN:VEVENT
SUMMARY:Movie Matinee - A Man Called Otto
DTSTART;TZID=US/Central:20230328T130000
DTEND;TZID=US/Central:20230328T150000
DTSTAMP:20260420T121259Z
UID:c5c04dd0c11f4261974cfe206a1e9136@saas_stack_varnish:6080
CREATED:20230227T185213Z
LAST-MODIFIED:20230227T185223Z
LOCATION:Jerseyville Public Library
URL:https://www.jerseyvillelibrary.org/news-events/movie-matinee-a-man-cal
 led-otto
END:VEVENT
BEGIN:VTIMEZONE
TZID:US/Central
X-LIC-LOCATION:US/Central
BEGIN:DAYLIGHT
DTSTART:20230312T030000
TZNAME:CDT
TZOFFSETFROM:-0600
TZOFFSETTO:-0500
END:DAYLIGHT
END:VTIMEZONE
END:VCALENDAR
