BEGIN:VCALENDAR
VERSION:2.0
PRODID:-//Plone.org//NONSGML plone.app.event//EN
X-WR-TIMEZONE:US/Central
BEGIN:VEVENT
SUMMARY:Movie Matinee - "About My Father"
DTSTART;TZID=US/Central:20230829T140000
DTEND;TZID=US/Central:20230829T150000
DTSTAMP:20260420T093429Z
UID:85f83714800c4ce88215544824c89832@saas_stack_varnish:6080
CREATED:20230728T143518Z
LAST-MODIFIED:20230728T143529Z
LOCATION:Jerseyville Public Library
URL:https://www.jerseyvillelibrary.org/news-events/movie-matinee-about-my-
 father
END:VEVENT
BEGIN:VTIMEZONE
TZID:US/Central
X-LIC-LOCATION:US/Central
BEGIN:DAYLIGHT
DTSTART:20230312T030000
TZNAME:CDT
TZOFFSETFROM:-0600
TZOFFSETTO:-0500
END:DAYLIGHT
END:VTIMEZONE
END:VCALENDAR
