BEGIN:VCALENDAR
VERSION:2.0
PRODID:-//Plone.org//NONSGML plone.app.event//EN
X-WR-TIMEZONE:US/Central
BEGIN:VEVENT
SUMMARY:Movie Matinee - American Underdog
DTSTART;TZID=US/Central:20220222T130000
DTEND;TZID=US/Central:20220222T150000
DTSTAMP:20260420T160243Z
UID:8abec054d9714df2b8141d51d52bd7cb@saas_stack_varnish:6080
CREATED:20220131T203516Z
LAST-MODIFIED:20220131T203521Z
LOCATION:Jerseyville Public Library
URL:https://www.jerseyvillelibrary.org/news-events/movie-matinee-american-
 underdog
END:VEVENT
BEGIN:VTIMEZONE
TZID:US/Central
X-LIC-LOCATION:US/Central
BEGIN:STANDARD
DTSTART:20211107T010000
TZNAME:CST
TZOFFSETFROM:-0500
TZOFFSETTO:-0600
END:STANDARD
END:VTIMEZONE
END:VCALENDAR
