BEGIN:VCALENDAR
VERSION:2.0
PRODID:-//Plone.org//NONSGML plone.app.event//EN
X-WR-TIMEZONE:US/Central
BEGIN:VEVENT
SUMMARY:Movie Matinee - Are You There God? It's Me\, Margaret.
DTSTART;TZID=US/Central:20230725T140000
DTEND;TZID=US/Central:20230725T153000
DTSTAMP:20260420T095123Z
UID:140ef8c0e6b1414e86f3b97aea950177@saas_stack_varnish:6080
CREATED:20230630T203017Z
LAST-MODIFIED:20230630T203022Z
LOCATION:Jerseyville Public Library
URL:https://www.jerseyvillelibrary.org/news-events/movie-matinee-are-you-t
 here-god-its-me-margaret
END:VEVENT
BEGIN:VTIMEZONE
TZID:US/Central
X-LIC-LOCATION:US/Central
BEGIN:DAYLIGHT
DTSTART:20230312T030000
TZNAME:CDT
TZOFFSETFROM:-0600
TZOFFSETTO:-0500
END:DAYLIGHT
END:VTIMEZONE
END:VCALENDAR
