BEGIN:VCALENDAR
VERSION:2.0
PRODID:-//Plone.org//NONSGML plone.app.event//EN
X-WR-TIMEZONE:US/Central
BEGIN:VEVENT
SUMMARY:Movie Matinee - Christmas with the Kranks
DTSTART;TZID=US/Central:20221220T130000
DTEND;TZID=US/Central:20221220T150000
DTSTAMP:20260422T084559Z
UID:178ac2ba298245b4b211bbdbcefbdbc5@saas_stack_varnish:6080
CREATED:20221126T005007Z
LAST-MODIFIED:20221126T005015Z
LOCATION:Jerseyville Public Library
URL:https://www.jerseyvillelibrary.org/news-events/movie-matinee-christmas
 -with-the-kranks
END:VEVENT
BEGIN:VTIMEZONE
TZID:US/Central
X-LIC-LOCATION:US/Central
BEGIN:STANDARD
DTSTART:20221106T010000
TZNAME:CST
TZOFFSETFROM:-0500
TZOFFSETTO:-0600
END:STANDARD
END:VTIMEZONE
END:VCALENDAR
