BEGIN:VCALENDAR
VERSION:2.0
PRODID:-//Plone.org//NONSGML plone.app.event//EN
X-WR-TIMEZONE:US/Central
BEGIN:VEVENT
SUMMARY:Movie Matinee - Florence Foster Jenkins
DTSTART;TZID=US/Central:20230627T140000
DTEND;TZID=US/Central:20230627T160000
DTSTAMP:20260420T110219Z
UID:a9b89bf020d4463a93e8777b5699cb48@saas_stack_varnish:6080
CREATED:20230530T160627Z
LAST-MODIFIED:20230530T160637Z
LOCATION:Jerseyville Public Library
URL:https://www.jerseyvillelibrary.org/news-events/movie-matinee-florence-
 foster-jenkins
END:VEVENT
BEGIN:VTIMEZONE
TZID:US/Central
X-LIC-LOCATION:US/Central
BEGIN:DAYLIGHT
DTSTART:20230312T030000
TZNAME:CDT
TZOFFSETFROM:-0600
TZOFFSETTO:-0500
END:DAYLIGHT
END:VTIMEZONE
END:VCALENDAR
