BEGIN:VCALENDAR
VERSION:2.0
PRODID:-//Plone.org//NONSGML plone.app.event//EN
X-WR-TIMEZONE:US/Central
BEGIN:VEVENT
SUMMARY:Movie Matinee for Grown-ups
DTSTART;TZID=US/Central:20200225T130000
DTEND;TZID=US/Central:20200225T150000
DTSTAMP:20260420T175557Z
UID:b180bc33f9d347069534696614203c80@saas_stack_varnish:6080
CONTACT:618-498-9514
CREATED:20200129T152331Z
LAST-MODIFIED:20200129T152337Z
LOCATION:Jerseyville PL upstairs meeting room
URL:https://www.jerseyvillelibrary.org/news-events/movie-matinee-for-grown
 -ups
END:VEVENT
BEGIN:VTIMEZONE
TZID:US/Central
X-LIC-LOCATION:US/Central
BEGIN:STANDARD
DTSTART:20191103T010000
TZNAME:CST
TZOFFSETFROM:-0500
TZOFFSETTO:-0600
END:STANDARD
END:VTIMEZONE
END:VCALENDAR
