BEGIN:VCALENDAR
VERSION:2.0
PRODID:-//Plone.org//NONSGML plone.app.event//EN
X-WR-TIMEZONE:US/Central
BEGIN:VEVENT
SUMMARY:Movie Matinee - "Golda"
DTSTART;TZID=US/Central:20231024T140000
DTEND;TZID=US/Central:20231024T160000
DTSTAMP:20260420T093227Z
UID:35b721d00f1f4b3487bdc6b8db2d531e@saas_stack_varnish:6080
CREATED:20231001T023314Z
LAST-MODIFIED:20231001T023339Z
LOCATION:Jerseyville Public Library
URL:https://www.jerseyvillelibrary.org/news-events/movie-matinee-golda
END:VEVENT
BEGIN:VTIMEZONE
TZID:US/Central
X-LIC-LOCATION:US/Central
BEGIN:DAYLIGHT
DTSTART:20230312T030000
TZNAME:CDT
TZOFFSETFROM:-0600
TZOFFSETTO:-0500
END:DAYLIGHT
END:VTIMEZONE
END:VCALENDAR
