BEGIN:VCALENDAR
VERSION:2.0
PRODID:-//Plone.org//NONSGML plone.app.event//EN
X-WR-TIMEZONE:US/Central
BEGIN:VEVENT
SUMMARY:Movie Matinee - Missing
DTSTART;TZID=US/Central:20230425T130000
DTEND;TZID=US/Central:20230425T150000
DTSTAMP:20260420T104635Z
UID:e3144f1830fe4c5b82327c3e7e6b8929@saas_stack_varnish:6080
CREATED:20230329T201453Z
LAST-MODIFIED:20230329T201458Z
LOCATION:Jerseyville Public Library
URL:https://www.jerseyvillelibrary.org/news-events/movie-matinee-missing
END:VEVENT
BEGIN:VTIMEZONE
TZID:US/Central
X-LIC-LOCATION:US/Central
BEGIN:DAYLIGHT
DTSTART:20230312T030000
TZNAME:CDT
TZOFFSETFROM:-0600
TZOFFSETTO:-0500
END:DAYLIGHT
END:VTIMEZONE
END:VCALENDAR
