BEGIN:VCALENDAR
VERSION:2.0
PRODID:-//Plone.org//NONSGML plone.app.event//EN
X-WR-TIMEZONE:US/Central
BEGIN:VEVENT
SUMMARY:Movie Matinee - The Fabelmans
DTSTART;TZID=US/Central:20230228T130000
DTEND;TZID=US/Central:20230228T150000
DTSTAMP:20260420T121549Z
UID:3be620df61f94c948194c5ccf0f11575@saas_stack_varnish:6080
CREATED:20230130T224805Z
LAST-MODIFIED:20230130T224810Z
LOCATION:Jerseyville Public Library
URL:https://www.jerseyvillelibrary.org/news-events/movie-matinee-the-fabel
 mans
END:VEVENT
BEGIN:VTIMEZONE
TZID:US/Central
X-LIC-LOCATION:US/Central
BEGIN:STANDARD
DTSTART:20221106T010000
TZNAME:CST
TZOFFSETFROM:-0500
TZOFFSETTO:-0600
END:STANDARD
END:VTIMEZONE
END:VCALENDAR
