BEGIN:VCALENDAR
VERSION:2.0
PRODID:-//Plone.org//NONSGML plone.app.event//EN
X-WR-TIMEZONE:US/Central
BEGIN:VEVENT
SUMMARY:Movie Matinee - The Little Mermaid (Live Action)
DTSTART;TZID=US/Central:20230926T140000
DTEND;TZID=US/Central:20230926T160000
DTSTAMP:20260420T112117Z
UID:868fec5505644a5da69ea775342f33a8@saas_stack_varnish:6080
CREATED:20230829T211718Z
LAST-MODIFIED:20230829T211726Z
LOCATION:Jerseyville Public Library
URL:https://www.jerseyvillelibrary.org/news-events/movie-matinee-the-littl
 e-mermaid-live-action
END:VEVENT
BEGIN:VTIMEZONE
TZID:US/Central
X-LIC-LOCATION:US/Central
BEGIN:DAYLIGHT
DTSTART:20230312T030000
TZNAME:CDT
TZOFFSETFROM:-0600
TZOFFSETTO:-0500
END:DAYLIGHT
END:VTIMEZONE
END:VCALENDAR
