BEGIN:VCALENDAR
VERSION:2.0
PRODID:-//Plone.org//NONSGML plone.app.event//EN
X-WR-TIMEZONE:US/Central
BEGIN:VEVENT
SUMMARY:Movie Matinee - "Ticket to Paradise"
DTSTART;TZID=US/Central:20230124T130000
DTEND;TZID=US/Central:20230124T150000
DTSTAMP:20260420T121304Z
UID:70295b55110d427abf118462892972b5@saas_stack_varnish:6080
CREATED:20221223T232824Z
LAST-MODIFIED:20221223T232831Z
LOCATION:Jerseyville Public Library
URL:https://www.jerseyvillelibrary.org/news-events/movie-matinee-ticket-to
 -paradise
END:VEVENT
BEGIN:VTIMEZONE
TZID:US/Central
X-LIC-LOCATION:US/Central
BEGIN:STANDARD
DTSTART:20221106T010000
TZNAME:CST
TZOFFSETFROM:-0500
TZOFFSETTO:-0600
END:STANDARD
END:VTIMEZONE
END:VCALENDAR
