BEGIN:VCALENDAR
VERSION:2.0
PRODID:-//Plone.org//NONSGML plone.app.event//EN
X-WR-TIMEZONE:US/Central
BEGIN:VEVENT
SUMMARY:Movie Matinee
DTSTART;TZID=US/Central:20220426T130000
DTEND;TZID=US/Central:20220426T150000
DTSTAMP:20260420T160029Z
UID:b1ac36c87d7e40d9ac72cedb5dc0d64a@saas_stack_varnish:6080
CREATED:20220329T183954Z
LAST-MODIFIED:20220329T184001Z
LOCATION:Jerseyville Public Library
URL:https://www.jerseyvillelibrary.org/news-events/movie-matinee
END:VEVENT
BEGIN:VTIMEZONE
TZID:US/Central
X-LIC-LOCATION:US/Central
BEGIN:DAYLIGHT
DTSTART:20220313T030000
TZNAME:CDT
TZOFFSETFROM:-0600
TZOFFSETTO:-0500
END:DAYLIGHT
END:VTIMEZONE
END:VCALENDAR
