BEGIN:VCALENDAR
VERSION:2.0
PRODID:-//Plone.org//NONSGML plone.app.event//EN
X-WR-TIMEZONE:US/Central
BEGIN:VEVENT
SUMMARY:New Year's Eve
DTSTART;TZID=US/Central:20261231T120000
DTEND;TZID=US/Central:20261231T200000
DTSTAMP:20260424T055412Z
UID:51901555658e41cb9b17d9c8b7fb3f49@saas_stack_varnish:6080
RRULE:FREQ=YEARLY;COUNT=7;BYMONTHDAY=31;BYMONTH=12
CATEGORIES:Holiday,Early Closure
CREATED:20250715T201017Z
LAST-MODIFIED:20250715T201023Z
URL:https://www.jerseyvillelibrary.org/news-events/new-years-eve
END:VEVENT
BEGIN:VTIMEZONE
TZID:US/Central
X-LIC-LOCATION:US/Central
BEGIN:STANDARD
DTSTART:20261101T010000
TZNAME:CST
TZOFFSETFROM:-0500
TZOFFSETTO:-0600
END:STANDARD
END:VTIMEZONE
END:VCALENDAR
