BEGIN:VCALENDAR
VERSION:2.0
PRODID:-//Plone.org//NONSGML plone.app.event//EN
X-WR-TIMEZONE:US/Central
BEGIN:VEVENT
SUMMARY:Non-Fiction Buy-the-Bag Book Sale
DTSTART;TZID=US/Central:20210820T090000
DTEND;TZID=US/Central:20210820T140000
DTSTAMP:20260420T173215Z
UID:955b946708c34a79825b3fac28f02c9d@saas_stack_varnish:6080
RRULE:FREQ=DAILY;COUNT=2
CREATED:20210731T191638Z
LAST-MODIFIED:20210731T191950Z
LOCATION:Jerseyville Public Library
URL:https://www.jerseyvillelibrary.org/news-events/non-fiction-buy-the-bag
 -book-sale
END:VEVENT
BEGIN:VTIMEZONE
TZID:US/Central
X-LIC-LOCATION:US/Central
BEGIN:DAYLIGHT
DTSTART:20210314T030000
TZNAME:CDT
TZOFFSETFROM:-0600
TZOFFSETTO:-0500
END:DAYLIGHT
END:VTIMEZONE
END:VCALENDAR
