BEGIN:VCALENDAR
VERSION:2.0
PRODID:-//Plone.org//NONSGML plone.app.event//EN
X-WR-TIMEZONE:US/Central
BEGIN:VEVENT
SUMMARY:Preschool Story Time
DTSTART;TZID=US/Central:20211123T100000
DTEND;TZID=US/Central:20211123T103000
DTSTAMP:20260420T172726Z
UID:8d31ae7a4e064d72a9951b61b8e31b26@saas_stack_varnish:6080
CREATED:20211004T145509Z
LAST-MODIFIED:20211004T154137Z
LOCATION:Jerseyville Public Library
URL:https://www.jerseyvillelibrary.org/news-events/preschool-story-time-1
END:VEVENT
BEGIN:VTIMEZONE
TZID:US/Central
X-LIC-LOCATION:US/Central
BEGIN:STANDARD
DTSTART:20211107T010000
TZNAME:CST
TZOFFSETFROM:-0500
TZOFFSETTO:-0600
END:STANDARD
END:VTIMEZONE
END:VCALENDAR
