BEGIN:VCALENDAR
VERSION:2.0
PRODID:-//Plone.org//NONSGML plone.app.event//EN
X-WR-TIMEZONE:US/Central
BEGIN:VEVENT
SUMMARY:Preschool Story Time
DTSTART;TZID=US/Central:20240227T100000
DTEND;TZID=US/Central:20240227T110000
DTSTAMP:20260422T084815Z
UID:b26b52139dfa4a3fa3891e40cb2d26ab@saas_stack_varnish:6080
CREATED:20240124T171206Z
LAST-MODIFIED:20240124T171211Z
LOCATION:Jerseyville Public Library
URL:https://www.jerseyvillelibrary.org/news-events/preschool-story-time-11
END:VEVENT
BEGIN:VTIMEZONE
TZID:US/Central
X-LIC-LOCATION:US/Central
BEGIN:STANDARD
DTSTART:20231105T010000
TZNAME:CST
TZOFFSETFROM:-0500
TZOFFSETTO:-0600
END:STANDARD
END:VTIMEZONE
END:VCALENDAR
