BEGIN:VCALENDAR
VERSION:2.0
PRODID:-//Plone.org//NONSGML plone.app.event//EN
X-WR-TIMEZONE:US/Central
BEGIN:VEVENT
SUMMARY:Preschool Story Time
DTSTART;TZID=US/Central:20221025T100000
DTEND;TZID=US/Central:20221025T110000
DTSTAMP:20260420T144718Z
UID:f7aecfefa85e4697873dc1cc343f49f7@saas_stack_varnish:6080
CREATED:20220830T160106Z
LAST-MODIFIED:20220927T193502Z
LOCATION:Jerseyville Public Library
URL:https://www.jerseyvillelibrary.org/news-events/preschool-story-time-3
END:VEVENT
BEGIN:VTIMEZONE
TZID:US/Central
X-LIC-LOCATION:US/Central
BEGIN:DAYLIGHT
DTSTART:20220313T030000
TZNAME:CDT
TZOFFSETFROM:-0600
TZOFFSETTO:-0500
END:DAYLIGHT
END:VTIMEZONE
END:VCALENDAR
