BEGIN:VCALENDAR
VERSION:2.0
PRODID:-//Plone.org//NONSGML plone.app.event//EN
X-WR-TIMEZONE:US/Central
BEGIN:VEVENT
SUMMARY:Preschool Story Time
DTSTART;TZID=US/Central:20211221T100000
DTEND;TZID=US/Central:20211221T103000
DTSTAMP:20260420T161056Z
UID:35397b5375294ba38b71623624c1a7d4@saas_stack_varnish:6080
CREATED:20211004T161546Z
LAST-MODIFIED:20211004T161555Z
LOCATION:Jerseyville Public Library
URL:https://www.jerseyvillelibrary.org/news-events/preschool-story-time
END:VEVENT
BEGIN:VTIMEZONE
TZID:US/Central
X-LIC-LOCATION:US/Central
BEGIN:STANDARD
DTSTART:20211107T010000
TZNAME:CST
TZOFFSETFROM:-0500
TZOFFSETTO:-0600
END:STANDARD
END:VTIMEZONE
END:VCALENDAR
