BEGIN:VCALENDAR
VERSION:2.0
PRODID:-//Plone.org//NONSGML plone.app.event//EN
X-WR-TIMEZONE:US/Central
BEGIN:VEVENT
SUMMARY:Preschool Storytime
DTSTART;TZID=US/Central:20230523T100000
DTEND;TZID=US/Central:20230523T110000
DTSTAMP:20260420T104111Z
UID:a751c85aa02446f6af953f102a700bcf@saas_stack_varnish:6080
CREATED:20230426T163603Z
LAST-MODIFIED:20230426T163608Z
LOCATION:Jerseyville Public Library
URL:https://www.jerseyvillelibrary.org/news-events/preschool-storytime-1
END:VEVENT
BEGIN:VTIMEZONE
TZID:US/Central
X-LIC-LOCATION:US/Central
BEGIN:DAYLIGHT
DTSTART:20230312T030000
TZNAME:CDT
TZOFFSETFROM:-0600
TZOFFSETTO:-0500
END:DAYLIGHT
END:VTIMEZONE
END:VCALENDAR
