BEGIN:VCALENDAR
VERSION:2.0
PRODID:-//Plone.org//NONSGML plone.app.event//EN
X-WR-TIMEZONE:US/Central
BEGIN:VEVENT
SUMMARY:Preschool Storytime
DTSTART;TZID=US/Central:20231219T100000
DTEND;TZID=US/Central:20231219T110000
DTSTAMP:20260424T094348Z
UID:70f33712cadd4f58a38fd64980fb06e0@saas_stack_varnish:6080
CREATED:20231128T215229Z
LAST-MODIFIED:20231128T215234Z
LOCATION:Jerseyville Public Library
URL:https://www.jerseyvillelibrary.org/news-events/preschool-storytime-2
END:VEVENT
BEGIN:VTIMEZONE
TZID:US/Central
X-LIC-LOCATION:US/Central
BEGIN:STANDARD
DTSTART:20231105T010000
TZNAME:CST
TZOFFSETFROM:-0500
TZOFFSETTO:-0600
END:STANDARD
END:VTIMEZONE
END:VCALENDAR
