BEGIN:VCALENDAR
VERSION:2.0
PRODID:-//Plone.org//NONSGML plone.app.event//EN
X-WR-TIMEZONE:US/Central
BEGIN:VEVENT
SUMMARY:Preschool Storytime
DTSTART;TZID=US/Central:20221220T100000
DTEND;TZID=US/Central:20221220T110000
DTSTAMP:20260420T143713Z
UID:e23e8f36c0e0411caa615de1407375b8@saas_stack_varnish:6080
CREATED:20221126T004620Z
LAST-MODIFIED:20221126T004628Z
LOCATION:Jerseyville Public Library
URL:https://www.jerseyvillelibrary.org/news-events/preschool-storytime
END:VEVENT
BEGIN:VTIMEZONE
TZID:US/Central
X-LIC-LOCATION:US/Central
BEGIN:STANDARD
DTSTART:20221106T010000
TZNAME:CST
TZOFFSETFROM:-0500
TZOFFSETTO:-0600
END:STANDARD
END:VTIMEZONE
END:VCALENDAR
