BEGIN:VCALENDAR
VERSION:2.0
PRODID:-//Plone.org//NONSGML plone.app.event//EN
X-WR-TIMEZONE:US/Central
BEGIN:VEVENT
SUMMARY:Retirement Reception for Anita Driver
DTSTART;TZID=US/Central:20220728T163000
DTEND;TZID=US/Central:20220728T183000
DTSTAMP:20260420T145303Z
UID:07c66c8c49e54df7ab1a0bcdcec03ad1@saas_stack_varnish:6080
CREATED:20220628T191622Z
LAST-MODIFIED:20220628T191629Z
LOCATION:Jerseyville Public Library
URL:https://www.jerseyvillelibrary.org/news-events/retirement-reception-fo
 r-anita-driver
END:VEVENT
BEGIN:VTIMEZONE
TZID:US/Central
X-LIC-LOCATION:US/Central
BEGIN:DAYLIGHT
DTSTART:20220313T030000
TZNAME:CDT
TZOFFSETFROM:-0600
TZOFFSETTO:-0500
END:DAYLIGHT
END:VTIMEZONE
END:VCALENDAR
