BEGIN:VCALENDAR
VERSION:2.0
PRODID:-//Plone.org//NONSGML plone.app.event//EN
X-WR-TIMEZONE:US/Central
BEGIN:VEVENT
SUMMARY:Santa Visits the Library!
DTSTART;TZID=US/Central:20231209T100000
DTEND;TZID=US/Central:20231209T110000
DTSTAMP:20260420T081744Z
UID:9c5289f10cc34941ad9f448450b432b2@saas_stack_varnish:6080
CREATED:20231128T212517Z
LAST-MODIFIED:20231128T212528Z
LOCATION:Jerseyville Public Library
URL:https://www.jerseyvillelibrary.org/news-events/santa-visits-the-librar
 y
END:VEVENT
BEGIN:VTIMEZONE
TZID:US/Central
X-LIC-LOCATION:US/Central
BEGIN:STANDARD
DTSTART:20231105T010000
TZNAME:CST
TZOFFSETFROM:-0500
TZOFFSETTO:-0600
END:STANDARD
END:VTIMEZONE
END:VCALENDAR
