BEGIN:VCALENDAR
VERSION:2.0
PRODID:-//Plone.org//NONSGML plone.app.event//EN
X-WR-TIMEZONE:US/Central
BEGIN:VEVENT
SUMMARY:Space Junk! with NASA Ambassodor Jeff Bernth
DTSTART;TZID=US/Central:20240629T110000
DTEND;TZID=US/Central:20240629T120000
DTSTAMP:20260420T122925Z
UID:8ec7c738150746fe8c90c619e553c769@saas_stack_varnish:6080
CREATED:20240621T211251Z
LAST-MODIFIED:20240621T211301Z
LOCATION:Jerseyville PL meeting room
URL:https://www.jerseyvillelibrary.org/news-events/space-junk-with-nasa-am
 bassodor-jeff-bernth
END:VEVENT
BEGIN:VTIMEZONE
TZID:US/Central
X-LIC-LOCATION:US/Central
BEGIN:DAYLIGHT
DTSTART:20240310T030000
TZNAME:CDT
TZOFFSETFROM:-0600
TZOFFSETTO:-0500
END:DAYLIGHT
END:VTIMEZONE
END:VCALENDAR
