BEGIN:VCALENDAR
VERSION:2.0
PRODID:-//Plone.org//NONSGML plone.app.event//EN
X-WR-TIMEZONE:US/Central
BEGIN:VEVENT
SUMMARY:Swap Your Stuff: Craft Supplies
DTSTART;TZID=US/Central:20230509T180000
DTEND;TZID=US/Central:20230509T200000
DTSTAMP:20260420T105037Z
UID:da77e67e4dfc478d818e7f6474f9a195@saas_stack_varnish:6080
CREATED:20230426T154621Z
LAST-MODIFIED:20230426T154634Z
LOCATION:Jerseyville Public Library
URL:https://www.jerseyvillelibrary.org/news-events/swap-your-stuff-craft-s
 upplies
END:VEVENT
BEGIN:VTIMEZONE
TZID:US/Central
X-LIC-LOCATION:US/Central
BEGIN:DAYLIGHT
DTSTART:20230312T030000
TZNAME:CDT
TZOFFSETFROM:-0600
TZOFFSETTO:-0500
END:DAYLIGHT
END:VTIMEZONE
END:VCALENDAR
