BEGIN:VCALENDAR
VERSION:2.0
PRODID:-//Plone.org//NONSGML plone.app.event//EN
X-WR-TIMEZONE:US/Central
BEGIN:VEVENT
SUMMARY:Take Your Child to the Library 2022
DTSTART;TZID=US/Central:20220205T083000
DTEND;TZID=US/Central:20220205T170000
DTSTAMP:20260420T160320Z
UID:91e40b567c1144618d242b33724a0bc9@saas_stack_varnish:6080
CREATED:20220131T203111Z
LAST-MODIFIED:20220131T203119Z
LOCATION:Jerseyville Public Library
URL:https://www.jerseyvillelibrary.org/news-events/take-your-child-to-the-
 library-2022
END:VEVENT
BEGIN:VTIMEZONE
TZID:US/Central
X-LIC-LOCATION:US/Central
BEGIN:STANDARD
DTSTART:20211107T010000
TZNAME:CST
TZOFFSETFROM:-0500
TZOFFSETTO:-0600
END:STANDARD
END:VTIMEZONE
END:VCALENDAR
