BEGIN:VCALENDAR
VERSION:2.0
PRODID:-//Plone.org//NONSGML plone.app.event//EN
X-WR-TIMEZONE:US/Central
BEGIN:VEVENT
SUMMARY:Thanksgiving Day
DTSTART;VALUE=DATE:20281123
DTEND;VALUE=DATE:20281124
DTSTAMP:20260424T071514Z
UID:fa8c6f7df3df4d619df0a7030e0d40bf@saas_stack_varnish:6080
CATEGORIES:Holiday,Closure
CREATED:20250715T195241Z
LAST-MODIFIED:20250715T195247Z
URL:https://www.jerseyvillelibrary.org/news-events/thanksgiving-day/2028-1
 1-23
END:VEVENT
END:VCALENDAR
