BEGIN:VCALENDAR
VERSION:2.0
PRODID:-//Plone.org//NONSGML plone.app.event//EN
X-WR-TIMEZONE:US/Central
BEGIN:VEVENT
SUMMARY:Thanksgiving Day
DTSTART;VALUE=DATE:20261126
DTEND;VALUE=DATE:20261127
DTSTAMP:20260424T055316Z
UID:fa8c6f7df3df4d619df0a7030e0d40bf@saas_stack_varnish:6080
RRULE:FREQ=YEARLY;COUNT=7;BYDAY=+4TH;BYMONTH=11
CATEGORIES:Holiday,Closure
CREATED:20250715T195241Z
LAST-MODIFIED:20250715T195247Z
URL:https://www.jerseyvillelibrary.org/news-events/thanksgiving-day
END:VEVENT
END:VCALENDAR
