BEGIN:VCALENDAR
VERSION:2.0
PRODID:-//Plone.org//NONSGML plone.app.event//EN
X-WR-TIMEZONE:US/Central
BEGIN:VEVENT
SUMMARY:The Great Pedal Tractor Competition
DTSTART;TZID=US/Central:20210327T100000
DTEND;TZID=US/Central:20210327T120000
DTSTAMP:20260420T185207Z
UID:158d8beb2f1441829cf215dd8b1fae45@saas_stack_varnish:6080
CREATED:20210302T205854Z
DESCRIPTION:The Great Pedal Tractor Competition
LAST-MODIFIED:20210302T205908Z
LOCATION:Wock Lake\, Jerseyville
URL:https://www.jerseyvillelibrary.org/news-events/the-great-pedal-tractor
 -competition
END:VEVENT
BEGIN:VTIMEZONE
TZID:US/Central
X-LIC-LOCATION:US/Central
BEGIN:DAYLIGHT
DTSTART:20210314T030000
TZNAME:CDT
TZOFFSETFROM:-0600
TZOFFSETTO:-0500
END:DAYLIGHT
END:VTIMEZONE
END:VCALENDAR
