BEGIN:VCALENDAR
VERSION:2.0
PRODID:-//Plone.org//NONSGML plone.app.event//EN
X-WR-TIMEZONE:US/Central
BEGIN:VEVENT
SUMMARY:True Crime Book to Movie Night
DTSTART;TZID=US/Central:20230223T183000
DTEND;TZID=US/Central:20230223T203000
DTSTAMP:20260420T121318Z
UID:71082d55fba94e1b9bde0844f69ef51e@saas_stack_varnish:6080
CREATED:20230130T224515Z
LAST-MODIFIED:20230130T224523Z
LOCATION:Jerseyville Public Library
URL:https://www.jerseyvillelibrary.org/news-events/true-crime-book-to-movi
 e-night
END:VEVENT
BEGIN:VTIMEZONE
TZID:US/Central
X-LIC-LOCATION:US/Central
BEGIN:STANDARD
DTSTART:20221106T010000
TZNAME:CST
TZOFFSETFROM:-0500
TZOFFSETTO:-0600
END:STANDARD
END:VTIMEZONE
END:VCALENDAR
