BEGIN:VCALENDAR
VERSION:2.0
PRODID:-//Plone.org//NONSGML plone.app.event//EN
X-WR-TIMEZONE:US/Central
BEGIN:VEVENT
SUMMARY:Will Stuck - Fun Master\, Choose Your Own M.E.S.S.
DTSTART;TZID=US/Central:20230713T140000
DTEND;TZID=US/Central:20230713T150000
DTSTAMP:20260420T093144Z
UID:ab7e71ec50a04b4b81b29d26908d322a@saas_stack_varnish:6080
CREATED:20230630T202757Z
LAST-MODIFIED:20230630T202804Z
LOCATION:Jerseyville Public Library
URL:https://www.jerseyvillelibrary.org/news-events/will-stuck-fun-master-c
 hoose-your-own-m-e-s-s
END:VEVENT
BEGIN:VTIMEZONE
TZID:US/Central
X-LIC-LOCATION:US/Central
BEGIN:DAYLIGHT
DTSTART:20230312T030000
TZNAME:CDT
TZOFFSETFROM:-0600
TZOFFSETTO:-0500
END:DAYLIGHT
END:VTIMEZONE
END:VCALENDAR
